BEGIN:VCALENDAR
VERSION:2.0
PRODID:-//Cub Scout Pack 279 - ECPv6.15.20//NONSGML v1.0//EN
CALSCALE:GREGORIAN
METHOD:PUBLISH
X-ORIGINAL-URL:https://www.pack279.us
X-WR-CALDESC:Events for Cub Scout Pack 279
REFRESH-INTERVAL;VALUE=DURATION:PT1H
X-Robots-Tag:noindex
X-PUBLISHED-TTL:PT1H
BEGIN:VTIMEZONE
TZID:America/New_York
BEGIN:DAYLIGHT
TZOFFSETFROM:-0500
TZOFFSETTO:-0400
TZNAME:EDT
DTSTART:20160313T070000
END:DAYLIGHT
BEGIN:STANDARD
TZOFFSETFROM:-0400
TZOFFSETTO:-0500
TZNAME:EST
DTSTART:20161106T060000
END:STANDARD
BEGIN:DAYLIGHT
TZOFFSETFROM:-0500
TZOFFSETTO:-0400
TZNAME:EDT
DTSTART:20170312T070000
END:DAYLIGHT
BEGIN:STANDARD
TZOFFSETFROM:-0400
TZOFFSETTO:-0500
TZNAME:EST
DTSTART:20171105T060000
END:STANDARD
BEGIN:DAYLIGHT
TZOFFSETFROM:-0500
TZOFFSETTO:-0400
TZNAME:EDT
DTSTART:20180311T070000
END:DAYLIGHT
BEGIN:STANDARD
TZOFFSETFROM:-0400
TZOFFSETTO:-0500
TZNAME:EST
DTSTART:20181104T060000
END:STANDARD
END:VTIMEZONE
BEGIN:VEVENT
DTSTART;TZID=America/New_York:20170921T190000
DTEND;TZID=America/New_York:20170921T203000
DTSTAMP:20260423T154856
CREATED:20170812T034819Z
LAST-MODIFIED:20170812T034819Z
UID:316-1506020400-1506025800@www.pack279.us
SUMMARY:Pack Meeting - Kick off 2017-18
DESCRIPTION:Pack 279 always kicks off the scouting year with a bang\, and we have made plans to ensure the first pack meeting of the new year makes you excited to be part of our pack. The first loops and achievements of the year will be awarded. We will receive the activities schedule\, learn our theme\, and meed some special guests. You won’t want to miss this meeting. \nIf you haven’t renewed or registered your scout at Hot Dog Night or Parent’s Info Night\, then this is the night. Bring your forms found on the JOIN SCOUTS Page along with your payment. Pack 279 will accept check or credit card to pay scout dues.
URL:https://www.pack279.us/event/pack-meeting-kick-off-2017-18/
LOCATION:St James Presbyterian Church\, 1425 Orrs Bridge Rd\, Mechanicsburg\, PA\, 17050\, United States
CATEGORIES:Pack Event
ATTACH;FMTTYPE=image/jpeg:https://www.pack279.us/wp-content/uploads/2017/06/IMG_8027-e1501104329150.jpg
ORGANIZER;CN="Cub Scout Pack 279":MAILTO:cubscouts@pack279.us
END:VEVENT
BEGIN:VEVENT
DTSTART;TZID=America/New_York:20170907T190000
DTEND;TZID=America/New_York:20170907T200000
DTSTAMP:20260423T154856
CREATED:20170728T132112Z
LAST-MODIFIED:20170825T184346Z
UID:233-1504810800-1504814400@www.pack279.us
SUMMARY:Parent Information Night
DESCRIPTION:Curious how to enroll your boy in our Pack in Cumberland County? Interested in returning to Pack 279 after a great experience last year? Want to be first to sign up for Show and Sales for our 2017 Popcorn sales? \nThen this event is for you. The Cubmaster and Assistant Cubmaster will: \n\nIntroduce you to each Den Leadership by Grade Level\nProvide background on why scouting is a valuable experience for k-5 school age boys.\nThey will outline some of the activities planned for 2017-18.\nThey will walk you through completing the enrollment application.\nThey will also detail why we sell popcorn to support scouting and give you the TOP 5 TIPSs for a successful popcorn sale for your scout.\n\nLight refreshments served. \nWe will have scout applications on hand or you may bring your own paperwork found here on our site.
URL:https://www.pack279.us/event/parent-information-night/
LOCATION:St James Presbyterian Church\, 1425 Orrs Bridge Rd\, Mechanicsburg\, PA\, 17050\, United States
CATEGORIES:Parents Meeting
ATTACH;FMTTYPE=image/jpeg:https://www.pack279.us/wp-content/uploads/2017/07/cropped-starry-night-tent-1.jpg
ORGANIZER;CN="Cub Scout Pack 279":MAILTO:cubscouts@pack279.us
END:VEVENT
BEGIN:VEVENT
DTSTART;TZID=America/New_York:20170818T193000
DTEND;TZID=America/New_York:20170818T220000
DTSTAMP:20260423T154856
CREATED:20170812T022711Z
LAST-MODIFIED:20170812T032231Z
UID:292-1503084600-1503093600@www.pack279.us
SUMMARY:Hot Dog & Movie Night
DESCRIPTION:Please join us for our Hot Dog and Movie Night to learn about Pack 279 and what cub scouting is all about. We will be serving hot dogs\, drinks and popcorn and showing a special family friendly movie as soon as it is dark enough\, around 8:15 pm. And while the kids watch the movie\, parents may preview this year’s popcorn goodies and be the first sign up for Pack 279 Show & Sales. \nBoys and their families\, entering grade K–5 are welcome to join Cub Scouts. Pack Meetings are every 3rd Thursday of the month\, September through May\, at St. James Presbyterian Church on Orr’s Bridge Road\, from 7:00pm to 8:00pm. \n*If you can’t make the meeting\, don’t worry. Just contact us for more information to get your son started in the exciting world of Cub Scouting. We will also be holding a parent information night on September 7 at 7pm. Our first Pack meeting is on September 21 at 7pm. Please come out and visit us to see what Cub Scout Pack 279 is all about. \nFor more information\, contact: \nMatt Weitzel\, Cubmaster: cubscouts@pack279.us or by phone\, (717) 421-2436 \nMichael Fedor\, Assistant Cubmaster: acm@pack279.us or by phone\, (717) 350-8409
URL:https://www.pack279.us/event/hot-dog-movie-night/
LOCATION:St James Presbyterian Church\, 1425 Orrs Bridge Rd\, Mechanicsburg\, PA\, 17050\, United States
CATEGORIES:Pack Event
ATTACH;FMTTYPE=image/jpeg:https://www.pack279.us/wp-content/uploads/2017/08/outdoor-movie-night.jpg
ORGANIZER;CN="Cub Scout Pack 279":MAILTO:cubscouts@pack279.us
END:VEVENT
BEGIN:VEVENT
DTSTART;TZID=America/New_York:20170708T160000
DTEND;TZID=America/New_York:20170709T050000
DTSTAMP:20260423T154856
CREATED:20170609T120335Z
LAST-MODIFIED:20170609T120338Z
UID:89-1499529600-1499576400@www.pack279.us
SUMMARY:Harrisburg Senators Scout Night
DESCRIPTION:The Harrisburg Senators will host their Scout Night Sleepover at Metro Bank Park. Scouts will be able to participate in a pre-game parade\, enjoy the game\, camp overnight in the outfield after the game\, receive an exclusive Harrisburg Senators Scout patch along with a food voucher for a hot dog\, chips and a drink. Enjoy a movie on the giant video scoreboard and breakfast in the morning before heading home. \nThe “Sleepover” packaged includes: Box Seat\, Scout Patch\, Hot Dog\, Chips\, Soft Drink and Breakfast \nThe “Game Only” packaged includes: Box Seat and Scout Patch \nWhat to Bring \n\nScout Uniform – Scouts may wear their CLASS B activity uniform (T-shirt) for the weekend. Leaders can wear either class A or B.\nIf you are sleeping over night\, you will need your own tent\, flashlight and sleeping bags\, pillows\, camp chairs\, etc. Please note\, the park does not allow tent pegs or stakes of any kind\, your tent must be free-standing.\nAll gear will be kept in your vehicle until after the game. Pack light\, or use a trolley/wagon for your gear\, it is a long walk to the field.\nThe park provides water/juice during the movie\, but you might want to bring a small cooler with drinks and snacks for over the night.\nTIP: Frozen wash cloths work great on hot nights!\nREMEMBER: Tent stakes are not permitted on the ball field. Make sure your tent is free standing\, without the use of stakes.
URL:https://www.pack279.us/event/harrisburg-senators-scout-night/
LOCATION:FNB Field\, 245 Championship Way\, Harrisburg\, PA\, 17101\, United States
CATEGORIES:Camping,Sports
END:VEVENT
BEGIN:VEVENT
DTSTART;TZID=America/New_York:20170626T180000
DTEND;TZID=America/New_York:20170626T210000
DTSTAMP:20260423T154856
CREATED:20170609T125511Z
LAST-MODIFIED:20170609T125511Z
UID:106-1498500000-1498510800@www.pack279.us
SUMMARY:Parents Meeting: 2017-18 Planning
DESCRIPTION:Join us as we plan the 2017-18 Scouting Year. We will review school schedules\, pick key dates for monthly events\, brainstorm Pack meeting themes\, and select service projects for the year. \nAll parents and leaders are welcomed and encouraged to attend. Pizza and beverages will be provided. \nBring along school calendars\, sports calendars\, and information on programs and service projects you want the Pack to consider for the 2017-18 School Year.
URL:https://www.pack279.us/event/parents-meeting-2017-18-planning/
LOCATION:St James Presbyterian Church\, 1425 Orrs Bridge Rd\, Mechanicsburg\, PA\, 17050\, United States
CATEGORIES:Parents Meeting
ORGANIZER;CN="Cub Scout Pack 279":MAILTO:cubscouts@pack279.us
END:VEVENT
BEGIN:VEVENT
DTSTART;VALUE=DATE:20170619
DTEND;VALUE=DATE:20170624
DTSTAMP:20260423T154856
CREATED:20170609T115854Z
LAST-MODIFIED:20170609T115854Z
UID:87-1497830400-1498262399@www.pack279.us
SUMMARY:Webelos Camp at Camp Tuckahoe
DESCRIPTION:Webelos will be camping out under the stars for four nights at Camp Tuckahoe. Boys will complete activities and requirements on their path to earning Webelos and Arrow of Light ranks. Activities include: \n\nArchery\nBB Shooting\nBoating and Fishing\nHandicraft\nNature\nScience Discovery\nScoutcraft\nSwimming\n\nRegistration for 2017 Webelos Camp is now closed. Stay tuned for June 2018 camping dates and make your reservation early for 2018!
URL:https://www.pack279.us/event/webelos-camp-camp-tuckahoe/
LOCATION:Camp Tuckahoe\, 400 Tuckahoe Rd\, Dillsburg\, PA\, 17019\, United States
CATEGORIES:Camping
END:VEVENT
BEGIN:VEVENT
DTSTART;VALUE=DATE:20170614
DTEND;VALUE=DATE:20170617
DTSTAMP:20260423T154856
CREATED:20170609T115512Z
LAST-MODIFIED:20170609T115512Z
UID:83-1497398400-1497657599@www.pack279.us
SUMMARY:Cub Scout Camp 2017
DESCRIPTION:Our Tiger\, Wolf\, and Bear Scouts will be camping out for two nights under the stars at Camp Tuckahoe. Boys will complete advancements on their path to earning their next Rank. Camp Tuckahoe programming includes: \n\nArchery\nSwimming\nBB gun range\nFishing\nBoating safety\nHiking\nNature center\nFun & Games\n\nRegistration is now closed for this event. Plan to attend Cub Scout Camp in June 2018! Dates to be announced in June 2017.
URL:https://www.pack279.us/event/cub-scout-camp-2017/
LOCATION:Camp Tuckahoe\, 400 Tuckahoe Rd\, Dillsburg\, PA\, 17019\, United States
CATEGORIES:Camping
END:VEVENT
END:VCALENDAR